BEGIN:VCALENDAR
VERSION:2.0
PRODID:gruene-ladenburg.de
METHOD:PUBLISH
BEGIN:VTIMEZONE
TZID:Europe/Berlin
X-LIC-LOCATION:Europe/Berlin
BEGIN:DAYLIGHT
TZOFFSETFROM:+0100
TZOFFSETTO:+0200
TZNAME:CEST
DTSTART:19700329T020000
RRULE:FREQ=YEARLY;INTERVAL=1;BYDAY=-1SU;BYMONTH=3
END:DAYLIGHT
BEGIN:STANDARD
TZOFFSETFROM:+0200
TZOFFSETTO:+0100
TZNAME:CET
DTSTART:19701025T030000
RRULE:FREQ=YEARLY;INTERVAL=1;BYDAY=-1SU;BYMONTH=10
END:STANDARD
END:VTIMEZONE
BEGIN:VEVENT
UID:0fe7204f89475ae63da66d9e7237c800@gruene-ladenburg.de
URL;VALUE=URI:https://gruene-ladenburg.de/termine/frauen-stammtisch/
LOCATION:Montamarte, Obertorstraße 1, Weinheim
SUMMARY:Frauen*-Stammtisch
DESCRIPTION;ALTREP="data:text/html,%0A%3Cfigure%20class%3D%22wp-block-ima
 ge%20size-full%22%3E%3Cimg%20src%3D%22https%3A%2F%2Fgruene-ladenburg.de%2
 Fwp-content%2Fuploads%2Fsites%2F277%2F2025%2F03%2FFrauenstammtisch-1.jpg%
 22%20alt%3D%22%22%20class%3D%22wp-image-276%22%20%2F%3E%3C%2Ffigure%3E%0A
 %0A%0A%0A%3Cp%3EFrauen-Politik%20war%20immer%20ein%20Schwerpunkt%20gr%C3%
 BCner%20Politik.%20Und%20es%20gibt%20eine%20Menge%20zu%20tun%20in%20Weinh
 eim%21%20Gerade%20wurde%20wieder%20unser%20Antrag%20auf%20die%20Einrichtu
 ng%20einer%20Stelle%20f%C3%BCr%20eine%20Gleichstellungs-Beauftragte%20im%
 20Gemeinderat%20abgelehnt.%20Patriarchale%20Strukturen%20versuchen%20Erru
 ngenschaften%20r%C3%BCckg%C3%A4ngig%20zu%20machen%20und%20das%20Ideal-Bil
 d%20einer%20untergeordneten%20Frau%20zu%20propagieren.%20Frauen-Politik%2
 0ist%20also%20wichtiger%20denn%20je%21%20Genug%20Gr%C3%BCnde%2C%20um%20si
 ch%20zu%20treffen%20und%20auszutauschen.%3C%2Fp%3E%0A":Frauen-Politik war
  immer ein Schwerpunkt grüner Politik. Und es gibt eine Menge zu tun in 
 Weinheim! Gerade wurde wieder unser Antrag auf die Einrichtung einer Stel
 le für eine Gleichstellungs-Beauftragte im Gemeinderat abgelehnt. Patria
 rchale Strukturen versuchen Errungenschaften rückgängig zu machen und d
 as Ideal-Bild einer untergeordneten Frau zu propagieren. Frauen-Politik i
 st also wichtiger denn je! Genug Gründe\, um sich zu treffen und auszuta
 uschen.
CLASS:PUBLIC
DTSTART;TZID=Europe/Berlin:20250313T193000
DTEND;TZID=Europe/Berlin:20250313T210000
DTSTAMP:20260422T220331
END:VEVENT
END:VCALENDAR